BEGIN:VCALENDAR
VERSION:2.0
PRODID:-//Age Friendly Salford - ECPv6.15.18//NONSGML v1.0//EN
CALSCALE:GREGORIAN
METHOD:PUBLISH
X-WR-CALNAME:Age Friendly Salford
X-ORIGINAL-URL:https://agefriendlysalford.org.uk
X-WR-CALDESC:Events for Age Friendly Salford
REFRESH-INTERVAL;VALUE=DURATION:PT1H
X-Robots-Tag:noindex
X-PUBLISHED-TTL:PT1H
BEGIN:VTIMEZONE
TZID:UTC
BEGIN:STANDARD
TZOFFSETFROM:+0000
TZOFFSETTO:+0000
TZNAME:UTC
DTSTART:20250101T000000
END:STANDARD
END:VTIMEZONE
BEGIN:VEVENT
DTSTART;TZID=UTC:20260804T103000
DTEND;TZID=UTC:20260804T113000
DTSTAMP:20260423T150350
CREATED:20260310T113342Z
LAST-MODIFIED:20260310T113342Z
UID:10008311-1785839400-1785843000@agefriendlysalford.org.uk
SUMMARY:Digital Drop-In
DESCRIPTION:If you’re aged 50 or above\, we offer a Digital Drop-In to support you with your tech needs!\nCome along\, and our team will do their best to assist you.
URL:https://agefriendlysalford.org.uk/event/digital-drop-in-24/
LOCATION:Worsley Village Library\, Worsley Road\, M28 2PB
CATEGORIES:Digital
END:VEVENT
BEGIN:VEVENT
DTSTART;TZID=UTC:20260813T143000
DTEND;TZID=UTC:20260813T153000
DTSTAMP:20260423T150350
CREATED:20260310T113721Z
LAST-MODIFIED:20260310T113721Z
UID:10008312-1786631400-1786635000@agefriendlysalford.org.uk
SUMMARY:Digital Drop-In
DESCRIPTION:If you’re aged 50 or above\, we offer a Digital Drop-In to support you with your tech needs!\nCome along\, and our team will do their best to assist you.
URL:https://agefriendlysalford.org.uk/event/digital-drop-in-25/
LOCATION:Cadishead Library\, 126 Liverpool Road\, Cadishead\, M44 5AN
CATEGORIES:Digital
END:VEVENT
BEGIN:VEVENT
DTSTART;TZID=UTC:20260820T140000
DTEND;TZID=UTC:20260820T150000
DTSTAMP:20260423T150350
CREATED:20260310T140219Z
LAST-MODIFIED:20260310T140219Z
UID:10008313-1787234400-1787238000@agefriendlysalford.org.uk
SUMMARY:Digital Drop-In
DESCRIPTION:If you’re aged 50 or above\, we offer a Digital Drop-In to support you with your tech needs!\nCome along\, and our team will do their best to assist you.
URL:https://agefriendlysalford.org.uk/event/digital-drop-in-26/
LOCATION:Height Library\, King Street\, M6 7GY
CATEGORIES:Digital
END:VEVENT
BEGIN:VEVENT
DTSTART;TZID=UTC:20260828T100000
DTEND;TZID=UTC:20260828T110000
DTSTAMP:20260423T150350
CREATED:20260310T141016Z
LAST-MODIFIED:20260310T141016Z
UID:10008314-1787911200-1787914800@agefriendlysalford.org.uk
SUMMARY:Digital Drop-In
DESCRIPTION:If you’re aged 50 or above\, we offer a Digital Drop-In to support you with your tech needs!\nCome along\, and our team will do their best to assist you.
URL:https://agefriendlysalford.org.uk/event/digital-drop-in-27/
LOCATION:Lower Kersal Library\, Salford Sports Village\, Littleton Road\, M7 3NQ
CATEGORIES:Digital
END:VEVENT
BEGIN:VEVENT
DTSTART;TZID=UTC:20260907T093000
DTEND;TZID=UTC:20260907T103000
DTSTAMP:20260423T150350
CREATED:20260310T141352Z
LAST-MODIFIED:20260310T141352Z
UID:10008315-1788773400-1788777000@agefriendlysalford.org.uk
SUMMARY:Digital Drop-In
DESCRIPTION:If you’re aged 50 or above\, we offer a Digital Drop-In to support you with your tech needs!\nCome along\, and our team will do their best to assist you.
URL:https://agefriendlysalford.org.uk/event/digital-drop-in-28/
LOCATION:Winton Library\, Old Parrin Lane\, M30 8BY
CATEGORIES:Digital
END:VEVENT
BEGIN:VEVENT
DTSTART;TZID=UTC:20260924T140000
DTEND;TZID=UTC:20260924T150000
DTSTAMP:20260423T150350
CREATED:20260310T141913Z
LAST-MODIFIED:20260310T141913Z
UID:10008316-1790258400-1790262000@agefriendlysalford.org.uk
SUMMARY:Digital Drop-In
DESCRIPTION:If you’re aged 50 or above\, we offer a Digital Drop-In to support you with your tech needs!\nCome along\, and our team will do their best to assist you.
URL:https://agefriendlysalford.org.uk/event/digital-drop-in-29/
LOCATION:Little Hulton Library\, Longshaw Drive\, M28 0AZ
CATEGORIES:Digital
END:VEVENT
BEGIN:VEVENT
DTSTART;TZID=UTC:20260930T160000
DTEND;TZID=UTC:20260930T170000
DTSTAMP:20260423T150350
CREATED:20260310T142407Z
LAST-MODIFIED:20260310T142407Z
UID:10008317-1790784000-1790787600@agefriendlysalford.org.uk
SUMMARY:Digital Drop-In
DESCRIPTION:If you’re aged 50 or above\, we offer a Digital Drop-In to support you with your tech needs!\nCome along\, and our team will do their best to assist you.
URL:https://agefriendlysalford.org.uk/event/digital-drop-in-30/
LOCATION:Swinton Library\, 100 Chorley Road\, M27 6BP\, United Kingdom
CATEGORIES:Digital
END:VEVENT
BEGIN:VEVENT
DTSTART;TZID=UTC:20261002T100000
DTEND;TZID=UTC:20261002T110000
DTSTAMP:20260423T150350
CREATED:20260310T142717Z
LAST-MODIFIED:20260310T142717Z
UID:10008318-1790935200-1790938800@agefriendlysalford.org.uk
SUMMARY:Digital Drop-In
DESCRIPTION:If you’re aged 50 or above\, we offer a Digital Drop-In to support you with your tech needs!\nCome along\, and our team will do their best to assist you.
URL:https://agefriendlysalford.org.uk/event/digital-drop-in-31/
LOCATION:Boothstown Library\, Standfield Drive\, Boothstown\, M28 1 ND
CATEGORIES:Digital
END:VEVENT
BEGIN:VEVENT
DTSTART;TZID=UTC:20261013T140000
DTEND;TZID=UTC:20261013T150000
DTSTAMP:20260423T150350
CREATED:20260323T150113Z
LAST-MODIFIED:20260323T150113Z
UID:10008334-1791900000-1791903600@agefriendlysalford.org.uk
SUMMARY:Digital Drop-In
DESCRIPTION:If you’re aged 50 or above\, we offer a Digital Drop-In to support you with your tech needs!\nCome along\, and our team will do their best to assist you.
URL:https://agefriendlysalford.org.uk/event/digital-drop-in-32/
LOCATION:Irlam Library\, 10 Hurst Fold\, M44 6FD
CATEGORIES:Digital
END:VEVENT
BEGIN:VEVENT
DTSTART;TZID=UTC:20261014T153000
DTEND;TZID=UTC:20261014T163000
DTSTAMP:20260423T150350
CREATED:20260323T151520Z
LAST-MODIFIED:20260323T151520Z
UID:10008335-1791991800-1791995400@agefriendlysalford.org.uk
SUMMARY:Digital Drop-In
DESCRIPTION:If you’re aged 50 or above\, we offer a Digital Drop-In to support you with your tech needs!\nCome along\, and our team will do their best to assist you.
URL:https://agefriendlysalford.org.uk/event/digital-drop-in-33/
LOCATION:Langworthy Cornerstone Association\, 451 Liverpool Street\, M6 5QQ
CATEGORIES:Digital
END:VEVENT
BEGIN:VEVENT
DTSTART;TZID=UTC:20261016T140000
DTEND;TZID=UTC:20261016T150000
DTSTAMP:20260423T150350
CREATED:20260323T152033Z
LAST-MODIFIED:20260323T152033Z
UID:10008336-1792159200-1792162800@agefriendlysalford.org.uk
SUMMARY:Digital Drop-In
DESCRIPTION:If you’re aged 50 or above\, we offer a Digital Drop-In to support you with your tech needs!\nCome along\, and our team will do their best to assist you.
URL:https://agefriendlysalford.org.uk/event/digital-drop-in-34/
LOCATION:Ordsall Library\, 2 Robert Hall Street\, M5 3LT
CATEGORIES:Digital
END:VEVENT
BEGIN:VEVENT
DTSTART;TZID=UTC:20261019T130000
DTEND;TZID=UTC:20261019T140000
DTSTAMP:20260423T150350
CREATED:20260323T153017Z
LAST-MODIFIED:20260323T153017Z
UID:10008337-1792414800-1792418400@agefriendlysalford.org.uk
SUMMARY:Digital Drop-In
DESCRIPTION:If you’re aged 50 or above\, we offer a Digital Drop-In to support you with your tech needs!\nCome along\, and our team will do their best to assist you.
URL:https://agefriendlysalford.org.uk/event/digital-drop-in-35/
LOCATION:Broughton Library\, 50 Rigby St\, Lower Broughton\, M7 4BQ\, Broughton Library\, Broughton Community Hub\, 50 Rigby Street\, M7 4BQ\, United Kingdom
CATEGORIES:Digital
GEO:53.5055106;-2.2587048
X-APPLE-STRUCTURED-LOCATION;VALUE=URI;X-ADDRESS=Broughton Library 50 Rigby St Lower Broughton M7 4BQ Broughton Library Broughton Community Hub 50 Rigby Street M7 4BQ United Kingdom;X-APPLE-RADIUS=500;X-TITLE=Broughton Library\, Broughton Community Hub\, 50 Rigby Street:geo:-2.2587048,53.5055106
END:VEVENT
END:VCALENDAR