BEGIN:VCALENDAR
VERSION:2.0
PRODID:-//Age Friendly Salford - ECPv6.15.18//NONSGML v1.0//EN
CALSCALE:GREGORIAN
METHOD:PUBLISH
X-WR-CALNAME:Age Friendly Salford
X-ORIGINAL-URL:https://agefriendlysalford.org.uk
X-WR-CALDESC:Events for Age Friendly Salford
REFRESH-INTERVAL;VALUE=DURATION:PT1H
X-Robots-Tag:noindex
X-PUBLISHED-TTL:PT1H
BEGIN:VTIMEZONE
TZID:UTC
BEGIN:STANDARD
TZOFFSETFROM:+0000
TZOFFSETTO:+0000
TZNAME:UTC
DTSTART:20250101T000000
END:STANDARD
END:VTIMEZONE
BEGIN:VEVENT
DTSTART;TZID=UTC:20260408T110000
DTEND;TZID=UTC:20260408T123000
DTSTAMP:20260420T103253
CREATED:20260309T143406Z
LAST-MODIFIED:20260309T143406Z
UID:10008302-1775646000-1775651400@agefriendlysalford.org.uk
SUMMARY:Walk and Talk
DESCRIPTION:Join us at one of our Walk and Talks\, where we explore various green and blue spaces across the city each week. These walks are designed for individuals aged 50 and above. Get active\, enjoy the fresh air\, and take notice of the beauty in our local parks and natural areas. It’s also a great opportunity to meet new people and have engaging conversations. \nLed by Andrea 07375 049963
URL:https://agefriendlysalford.org.uk/event/walk-and-talk-23/
LOCATION:Buile Hill Park\, Eccles Old Road\, M6 8GL
CATEGORIES:Walk and Talk
END:VEVENT
BEGIN:VEVENT
DTSTART;TZID=UTC:20260318T110000
DTEND;TZID=UTC:20260318T123000
DTSTAMP:20260420T103253
CREATED:20260220T153041Z
LAST-MODIFIED:20260303T140953Z
UID:10008280-1773831600-1773837000@agefriendlysalford.org.uk
SUMMARY:Walk and Talk
DESCRIPTION:Join us at one of our Walk and Talks\, where we explore various green and blue spaces across the city each week. These walks are designed for individuals aged 50 and above. Get active\, enjoy the fresh air\, and take notice of the beauty in our local parks and natural areas. It’s also a great opportunity to meet new people and have engaging conversations. \nLed by Andrea 07375 049963
URL:https://agefriendlysalford.org.uk/event/walk-and-talk-29/
LOCATION:Buile Hill Park\, Eccles Old Road\, M6 8GL
CATEGORIES:Walk and Talk
END:VEVENT
END:VCALENDAR