BEGIN:VCALENDAR
VERSION:2.0
PRODID:-//Age Friendly Salford - ECPv6.15.18//NONSGML v1.0//EN
CALSCALE:GREGORIAN
METHOD:PUBLISH
X-WR-CALNAME:Age Friendly Salford
X-ORIGINAL-URL:https://agefriendlysalford.org.uk
X-WR-CALDESC:Events for Age Friendly Salford
REFRESH-INTERVAL;VALUE=DURATION:PT1H
X-Robots-Tag:noindex
X-PUBLISHED-TTL:PT1H
BEGIN:VTIMEZONE
TZID:UTC
BEGIN:STANDARD
TZOFFSETFROM:+0000
TZOFFSETTO:+0000
TZNAME:UTC
DTSTART:20250101T000000
END:STANDARD
END:VTIMEZONE
BEGIN:VEVENT
DTSTART;TZID=UTC:20260210T143000
DTEND;TZID=UTC:20260210T153000
DTSTAMP:20260423T201045
CREATED:20251204T135143Z
LAST-MODIFIED:20251204T135143Z
UID:10008217-1770733800-1770737400@agefriendlysalford.org.uk
SUMMARY:Digital Drop-In
DESCRIPTION:If you’re aged 50 or above\, we offer a Digital Drop-In to support you with your tech needs!\nCome along\, and our team will do their best to assist you.
URL:https://agefriendlysalford.org.uk/event/digital-drop-in-18/
LOCATION:Clifton Library\, 6 Wynne Avenue\, M27 8FU
CATEGORIES:Digital
END:VEVENT
END:VCALENDAR