BEGIN:VCALENDAR
VERSION:2.0
PRODID:-//Age Friendly Salford - ECPv6.15.18//NONSGML v1.0//EN
CALSCALE:GREGORIAN
METHOD:PUBLISH
X-WR-CALNAME:Age Friendly Salford
X-ORIGINAL-URL:https://agefriendlysalford.org.uk
X-WR-CALDESC:Events for Age Friendly Salford
REFRESH-INTERVAL;VALUE=DURATION:PT1H
X-Robots-Tag:noindex
X-PUBLISHED-TTL:PT1H
BEGIN:VTIMEZONE
TZID:UTC
BEGIN:STANDARD
TZOFFSETFROM:+0000
TZOFFSETTO:+0000
TZNAME:UTC
DTSTART:20250101T000000
END:STANDARD
END:VTIMEZONE
BEGIN:VEVENT
DTSTART;TZID=UTC:20260414T110000
DTEND;TZID=UTC:20260414T123000
DTSTAMP:20260420T104630
CREATED:20260323T121828Z
LAST-MODIFIED:20260323T121828Z
UID:10008329-1776164400-1776169800@agefriendlysalford.org.uk
SUMMARY:Walk and Talk
DESCRIPTION:Join us at one of our Walk and Talks\, where we explore various green and blue spaces across the city each week. These walks are designed for individuals aged 50 and above. Get active\, enjoy the fresh air\, and take notice of the beauty in our local parks and natural areas. It’s also a great opportunity to meet new people and have engaging conversations. \nLed by Nicola 07529 225 113 
URL:https://agefriendlysalford.org.uk/event/walk-and-talk-33/
LOCATION:Parr Fold Park\, Walkden\, M28 7DS
CATEGORIES:Walk and Talk
END:VEVENT
BEGIN:VEVENT
DTSTART;TZID=UTC:20260217T113000
DTEND;TZID=UTC:20260217T130000
DTSTAMP:20260420T104630
CREATED:20260210T163615Z
LAST-MODIFIED:20260210T163615Z
UID:10008256-1771327800-1771333200@agefriendlysalford.org.uk
SUMMARY:Walk and Talk
DESCRIPTION:Join us at one of our Walk and Talks\, where we explore various green and blue spaces across the city each week. These walks are designed for individuals aged 50 and above. Get active\, enjoy the fresh air\, and take notice of the beauty in our local parks and natural areas. It’s also a great opportunity to meet new people and have engaging conversations. \nLed by Nicola 075292 25113
URL:https://agefriendlysalford.org.uk/event/walk-and-talk-11/
LOCATION:Parr Fold Park\, Walkden\, M28 7DS
CATEGORIES:Walk and Talk
END:VEVENT
END:VCALENDAR