BEGIN:VCALENDAR
VERSION:2.0
PRODID:-//Age Friendly Salford - ECPv6.15.18//NONSGML v1.0//EN
CALSCALE:GREGORIAN
METHOD:PUBLISH
X-WR-CALNAME:Age Friendly Salford
X-ORIGINAL-URL:https://agefriendlysalford.org.uk
X-WR-CALDESC:Events for Age Friendly Salford
REFRESH-INTERVAL;VALUE=DURATION:PT1H
X-Robots-Tag:noindex
X-PUBLISHED-TTL:PT1H
BEGIN:VTIMEZONE
TZID:UTC
BEGIN:STANDARD
TZOFFSETFROM:+0000
TZOFFSETTO:+0000
TZNAME:UTC
DTSTART:20250101T000000
END:STANDARD
END:VTIMEZONE
BEGIN:VEVENT
DTSTART;TZID=UTC:20260226T110000
DTEND;TZID=UTC:20260226T123000
DTSTAMP:20260420T133746
CREATED:20251212T151238Z
LAST-MODIFIED:20251212T151238Z
UID:10008241-1772103600-1772109000@agefriendlysalford.org.uk
SUMMARY:Brew and Chat
DESCRIPTION:Come along for a brew and a chat in your neighbourhood\, meet new friends\, get wellbeing support and find out what’s going on in your local area. \nLed by Tonicha 07983884160
URL:https://agefriendlysalford.org.uk/event/brew-and-chat-26/
LOCATION:Swinton Library\, 100 Chorley Road\, Swinton\, M27 6BP
CATEGORIES:Brew and Chat
END:VEVENT
BEGIN:VEVENT
DTSTART;TZID=UTC:20260212T110000
DTEND;TZID=UTC:20260212T123000
DTSTAMP:20260420T133746
CREATED:20251212T135750Z
LAST-MODIFIED:20260126T145031Z
UID:10008239-1770894000-1770899400@agefriendlysalford.org.uk
SUMMARY:Brew and Chat
DESCRIPTION:Come along for a brew and a chat in your neighbourhood\, meet new friends\, get wellbeing support and find out what’s going on in your local area. \nLed by Tonicha 07983884160
URL:https://agefriendlysalford.org.uk/event/8103/
LOCATION:Swinton Library\, 100 Chorley Road\, Swinton\, M27 6BP
CATEGORIES:Brew and Chat
END:VEVENT
BEGIN:VEVENT
DTSTART;TZID=UTC:20260129T110000
DTEND;TZID=UTC:20260129T123000
DTSTAMP:20260420T133746
CREATED:20251212T135021Z
LAST-MODIFIED:20251212T135021Z
UID:10008237-1769684400-1769689800@agefriendlysalford.org.uk
SUMMARY:Brew and Chat
DESCRIPTION:Come along for a brew and a chat in your neighbourhood\, meet new friends\, get wellbeing support and find out what’s going on in your local area. \nLed by Tonicha 07983884160
URL:https://agefriendlysalford.org.uk/event/brew-and-chat-25/
LOCATION:Swinton Library\, 100 Chorley Road\, Swinton\, M27 6BP
CATEGORIES:Brew and Chat
END:VEVENT
END:VCALENDAR